BEGIN:VCALENDAR
VERSION:2.0
PRODID:-//Manos Abiertas - ECPv6.15.20//NONSGML v1.0//EN
CALSCALE:GREGORIAN
METHOD:PUBLISH
X-ORIGINAL-URL:https://manosabiertas.org.ar
X-WR-CALDESC:Eventos para Manos Abiertas
REFRESH-INTERVAL;VALUE=DURATION:PT1H
X-Robots-Tag:noindex
X-PUBLISHED-TTL:PT1H
BEGIN:VTIMEZONE
TZID:America/Argentina/Buenos_Aires
BEGIN:STANDARD
TZOFFSETFROM:-0300
TZOFFSETTO:-0300
TZNAME:-03
DTSTART:20210101T000000
END:STANDARD
END:VTIMEZONE
BEGIN:VEVENT
DTSTART;TZID=America/Argentina/Buenos_Aires:20221127T080000
DTEND;TZID=America/Argentina/Buenos_Aires:20221127T080000
DTSTAMP:20260421T073204
CREATED:20220529T201231Z
LAST-MODIFIED:20220914T190158Z
UID:33404-1669536000-1669536000@manosabiertas.org.ar
SUMMARY:Tarde de teatro
DESCRIPTION:📍CÓRDOBA\n\n🙌🏼Gesto: Una tarde teatro \n🗓Cuándo: 27 de noviembre\n📍Dónde: Hogar de adultos mayores Inmaculada Concepción\n💛 Beneficiarios/patroncitos: Personas que se encuentran viviendo en este hogar\n♥️ Voluntarios: Equipo Madre Teresa Córdoba
URL:https://manosabiertas.org.ar/evento/tarde-de-teatro/
CATEGORIES:Gestos
ATTACH;FMTTYPE=image/jpeg:https://manosabiertas.org.ar/wp-content/uploads/2022/05/marek-studzinski-gilbIaJdq-o-unsplash-scaled.jpg
END:VEVENT
BEGIN:VEVENT
DTSTART;TZID=America/Argentina/Buenos_Aires:20221118T080000
DTEND;TZID=America/Argentina/Buenos_Aires:20221118T170000
DTSTAMP:20260421T073204
CREATED:20220804T155601Z
LAST-MODIFIED:20220804T162044Z
UID:35014-1668758400-1668790800@manosabiertas.org.ar
SUMMARY:Te doy mi mano
DESCRIPTION:📍SALTA\n\n🙌🏼Gesto: para festejar también y conmemorar la Jornada de los pobres\, instituída por el Papa Francisco hace unos años\, se realizará una cena para todos los patroncitos\, en donde se compartirán juegos\, sorteos\, baile\, oración\, entre otras actividades.\n🗓Cuándo: 18 de noviembre\n📍Dónde: En el Salón de la Parroquia León XIII. (Lerma 480)\n💛 Beneficiarios/patroncitos: personas en situación de calle y vulnerabilidad.\n♥️ Voluntarios: participarán voluntarios de cada una una de nuestras obras en Salta 
URL:https://manosabiertas.org.ar/evento/te-doy-mi-mano/
CATEGORIES:Gestos
ATTACH;FMTTYPE=image/jpeg:https://manosabiertas.org.ar/wp-content/uploads/2022/05/marek-studzinski-gilbIaJdq-o-unsplash-scaled.jpg
END:VEVENT
BEGIN:VEVENT
DTSTART;TZID=America/Argentina/Buenos_Aires:20221026T000000
DTEND;TZID=America/Argentina/Buenos_Aires:20221026T000000
DTSTAMP:20260421T073204
CREATED:20220708T152633Z
LAST-MODIFIED:20220801T230750Z
UID:34365-1666742400-1666742400@manosabiertas.org.ar
SUMMARY:Peña San José
DESCRIPTION:📍SANTA FE\n\n🙌🏼Gesto: Tarde musical y merienda.\n🗓Cuándo: 26 de octubre\n📍Dónde: En el patio de la casa de ACUPA. (manzana del viejo Hospital Iturraspe)\n💛 Beneficiarios/patroncitos: Patroncitos de San José (alojados en la Casa de ACUPA que se encuentran realizando tratamiento oncológico)\, pacientes internados en el Viejo Hospital Iturraspe\, familiares\, personal de salud y vigilancia de la Institución. Cantidad de beneficiarios: 60.\n♥️ Voluntarios:Participarán voluntarios de todas las obras de Santa Fe\, la merienda será preparada por los alumnos del Taller de Cocina de nuestra Escuela de Oficios Papa Francisco y dentro de la propuesta musical se coordinará la presentación de la orquesta de niños de Alto Verde (quiénes toman clases en la Escuela Jesús Resucitado con docentes de la Municipalidad de Santa Fe\, siendo los instrumentos de cuerdas\, viento y percusión de Manos abiertas). Cantidad aproximada de voluntarios: 30.
URL:https://manosabiertas.org.ar/evento/penaymerienda/
CATEGORIES:Gestos
ATTACH;FMTTYPE=image/jpeg:https://manosabiertas.org.ar/wp-content/uploads/2022/05/marek-studzinski-gilbIaJdq-o-unsplash-scaled.jpg
END:VEVENT
BEGIN:VEVENT
DTSTART;TZID=America/Argentina/Buenos_Aires:20221022T080000
DTEND;TZID=America/Argentina/Buenos_Aires:20221022T170000
DTSTAMP:20260421T073204
CREATED:20220801T224646Z
LAST-MODIFIED:20220927T195527Z
UID:34923-1666425600-1666458000@manosabiertas.org.ar
SUMMARY:Abrigando Sueños
DESCRIPTION:📍JUJUY\n\n🙌🏼Gesto:Confección de cubrecamas con telas recicladas de prendas en desuso. Aplicando la técnica de patchwork. También se harán juegos didácticos de madera\, diferentes adornos para las habitaciones\, etc.\nSerán cofeccionadas con el fin de «embellecer » las habitaciones de 20 niños (10 niñas y 10 niños) que asisten a una Escuelita de la localidad de Chorcan\, Humahuaca.  \n🗓Cuándo: Fecha aproximada 22/10 ( a confirmar) \n📍Dónde: Escuela 198 Ciudad de LA Plata\,Chorcan\,Humahuaca.\n💛 Beneficiarios/patroncitos: 20 niños/as que asisten a la escuela de diferentes parajes y se quedan a dormir toda la semana\n♥️ Voluntarios: voluntarias del Roperito Comunitario\, Patroncitos de la Hospedería\, alumnos de sala de 5 años y primer grado y sus maestras del colegio Nueva Siembra\,que ayudaron cortando los cuadrados de tela.
URL:https://manosabiertas.org.ar/evento/abrigando-suenos/
CATEGORIES:Gestos
ATTACH;FMTTYPE=image/jpeg:https://manosabiertas.org.ar/wp-content/uploads/2022/05/marek-studzinski-gilbIaJdq-o-unsplash-scaled.jpg
END:VEVENT
BEGIN:VEVENT
DTSTART;TZID=America/Argentina/Buenos_Aires:20221008T080000
DTEND;TZID=America/Argentina/Buenos_Aires:20221009T170000
DTSTAMP:20260421T073204
CREATED:20220531T203019Z
LAST-MODIFIED:20220718T190800Z
UID:33246-1665216000-1665334800@manosabiertas.org.ar
SUMMARY:ENMA 2022
DESCRIPTION:20º Encuentro Nacional de Manos Abiertas \n«Caminar juntos\, desafío y misión» \nEste acontecimiento anual es el más importante a nivel de participación\, porque incluye al voluntariado de todas las provincias.  El ENMA\, es convocado por la Consejo Administrativo Nacional\, con un año de anticipación\, designando la provincia que será sede del mismo. \nEste año: ¡Buenos Aires! Es la sede anfitriona\,  celebramos los 30 años juntos. Nos reunimos donde comenzó Manos Abiertas… \n¡Ya podés inscribirte! \nVer más
URL:https://manosabiertas.org.ar/evento/enma-2022/
CATEGORIES:Eventos
ATTACH;FMTTYPE=image/png:https://manosabiertas.org.ar/wp-content/uploads/2022/05/STD-ENMA_Mesa-de-trabajo-1-copia.png
END:VEVENT
BEGIN:VEVENT
DTSTART;TZID=America/Argentina/Buenos_Aires:20220924T080000
DTEND;TZID=America/Argentina/Buenos_Aires:20220924T170000
DTSTAMP:20260421T073204
CREATED:20220530T201505Z
LAST-MODIFIED:20220927T195729Z
UID:33455-1664006400-1664038800@manosabiertas.org.ar
SUMMARY:Primavera Feliz
DESCRIPTION:📍MAR DEL PLATA\n\n🙌🏼Gesto: Compartir y festejar la primavera\n🗓Cuándo: 24 de septiembre\n📍Dónde: Hogar Hermanas Misioneras de la Caridad – Bº Parque Palermo\n💛 Beneficiarios/patroncitos: personas que se encuentran internados\n♥️ Voluntarios: se realizará con equipo San José e invitados de otras Obras de Mar del Plata
URL:https://manosabiertas.org.ar/evento/primavera-feliz/
LOCATION:Hogar de las Hnas de la Caridad\, Reservistas 4110\, Mar del Plata
CATEGORIES:Gestos
ATTACH;FMTTYPE=image/jpeg:https://manosabiertas.org.ar/wp-content/uploads/2022/05/WhatsApp-Image-2022-09-24-at-8.18.29-PM.jpeg
END:VEVENT
BEGIN:VEVENT
DTSTART;TZID=America/Argentina/Buenos_Aires:20220913T080000
DTEND;TZID=America/Argentina/Buenos_Aires:20220914T170000
DTSTAMP:20260421T073204
CREATED:20220804T154523Z
LAST-MODIFIED:20220927T195401Z
UID:35012-1663056000-1663174800@manosabiertas.org.ar
SUMMARY:Acompañando milagros
DESCRIPTION:📍SALTA\n\n🙌🏼Gesto: Como es tradición en nuestra provincia de Salta\, al acercarse la fecha de la Solemnidad de la Virgen y el Señor del Milagro\, llegan peregrinos de distintos lugares de la provincia\, sobre todo de los màs inhóspitos. Recorren a pie varias semanas y arriban a Salta Capital días antes de la Fiesta (15 de Septiembre). Por lo cual\, los voluntarios estuvimos esperándolos en un lugar a confirmar\, para brindarles los servicios de higiene\, alimentación y salud que requieran.\n🗓Cuándo: 13 y 14 de Septiembre \n📍Dónde: lugar a confirmar\n💛 Beneficiarios/patroncitos: peregrinos del interior de nuestra provincia que llegan a Salta\n♥️ Voluntarios: De todas nuestras obras en Manos Abiertas Salta
URL:https://manosabiertas.org.ar/evento/acompanando-milagros/
CATEGORIES:Gestos
ATTACH;FMTTYPE=image/jpeg:https://manosabiertas.org.ar/wp-content/uploads/2022/08/WhatsApp-Image-2022-09-19-at-1.04.05-PM.jpeg
END:VEVENT
BEGIN:VEVENT
DTSTART;TZID=America/Argentina/Buenos_Aires:20220828T080000
DTEND;TZID=America/Argentina/Buenos_Aires:20220828T170000
DTSTAMP:20260421T073204
CREATED:20220804T151653Z
LAST-MODIFIED:20220927T195213Z
UID:34994-1661673600-1661706000@manosabiertas.org.ar
SUMMARY:Manos que acompañan
DESCRIPTION:📍ENTRE RÍOS\n\n🙌🏼Gesto:  Recolección de útiles\, ropa y juguetes. Desde la Esc. San Roque se contactó a la Directora de la Esc.» Nuestra Señora del Silencio» llamada comúnmente » El Silencio» de un barrio de la periferia de la ciudad de Concordia para consultarle las necesidades de los alumnos y sus familias. Teniendo en cuenta esto\, se inicia este gesto\, que no sólo se realizará este año sino que tendrá continuidad el año próximo\, en la misma fecha\, pero con otra Escuela. \n🗓Cuándo:  la última semana de agosto/primera de septiembre\n📍Dónde: Escuela N° 32 Nuestra «Señora del Silencio» de la ciudad de Concordia.\n💛 Beneficiarios/patroncitos: Familias de aproximadamente 150 alumnos y familias del barrio\, ajenas a la escuela ( si las donaciones son en gran cantidad y cubren las necesidades de los chicos y sus familias\, se acordó con la directora que\, lo sobrante se destine a familias que no tienen chicos en la Escuela\, pero que también tienen necesidades importantes.\n♥️ Voluntarios: las donaciones será en dos puntos Casa Loyola y la Escuela San Roque. Luego se realizarán los trabajos de separación\, arreglos si es necesario\,etc.  Trabajarán voluntarios de todas las obras de Manos Entre Ríos; aproximadamente 10. Para la entrega de las donaciones irá un representante de cada obra. No sólo será la entrega sino también\, se aprovechará el tiempo para compartir con los directivos\, docentes y chicos de la Institución.\n\nSe tiene la intención que esta acción se repita año a año… 
URL:https://manosabiertas.org.ar/evento/manos-que-acompanan/
CATEGORIES:Gestos
ATTACH;FMTTYPE=image/jpeg:https://manosabiertas.org.ar/wp-content/uploads/2022/08/WhatsApp-Image-2022-09-07-at-3.14.06-PM-2.jpeg
END:VEVENT
BEGIN:VEVENT
DTSTART;TZID=America/Argentina/Buenos_Aires:20220827T080000
DTEND;TZID=America/Argentina/Buenos_Aires:20220827T170000
DTSTAMP:20260421T073204
CREATED:20220914T165645Z
LAST-MODIFIED:20220927T195031Z
UID:35560-1661587200-1661619600@manosabiertas.org.ar
SUMMARY:Celebrando la vida
DESCRIPTION:📍NEUQUÉN\n• 🙌🏼Gesto:  merienda\, bingo y canciones con los abuelos  \n\n🗓Cuándo: 27 de agosto\n📍Dónde: Hogar de adultos mayores – Hermanitas de los Pobres\n💛 Beneficiarios/patroncitos: 30 abuelas/os que viven en el hogar y 8  que pasan el día y estan al cuidado de las Hermanas\n♥️ Voluntarios: De todas nuestras obras en Manos Abiertas Neuquen y  grupo de catequesis de la Parroquia San Frascisco de Asís
URL:https://manosabiertas.org.ar/evento/celebrando-la-vida/
CATEGORIES:Gestos
ATTACH;FMTTYPE=image/jpeg:https://manosabiertas.org.ar/wp-content/uploads/2022/08/WhatsApp-Image-2022-09-07-at-8.03.23-PM.jpeg
END:VEVENT
BEGIN:VEVENT
DTSTART;TZID=America/Argentina/Buenos_Aires:20220818T190000
DTEND;TZID=America/Argentina/Buenos_Aires:20220818T230000
DTSTAMP:20260421T073204
CREATED:20220528T194331Z
LAST-MODIFIED:20220708T175816Z
UID:33204-1660849200-1660863600@manosabiertas.org.ar
SUMMARY:Noche Solidaria
DESCRIPTION:Año tras año realizamos distintos eventos para  recaudar fondos para el sostenimiento de nuestras obras. A su vez\, son momentos de compartir en familia\, fomentando los valores de Manos Abiertas y generando una comunidad activa y solidaria. Un modo de acompañarnos este año será el \n Jueves 18 de Agosto a las 19 hs. \nLugar: Usina del Arte\, Agustín Caffarena 1\, CABA. \nUn  evento\, conducido por Fernando Bravo\, en el que actuarán Dos Más Uno\, Maggie Cullen\, entre otros.  \nHabrá sorteos y otras sorpresas además de un cocktail para los asistentes. \nSumate vos también! \nVer más
URL:https://manosabiertas.org.ar/evento/noche-solidaria-30-anivesario/
LOCATION:usina del Arte\, Agustín Caffarena 1\, Ciudad Autónoma de Buenos Aires\, CABA
CATEGORIES:Eventos
ATTACH;FMTTYPE=image/jpeg:https://manosabiertas.org.ar/wp-content/uploads/2022/05/STD_Manos_Cena_2022.jpg
END:VEVENT
BEGIN:VEVENT
DTSTART;VALUE=DATE:20220812
DTEND;VALUE=DATE:20220816
DTSTAMP:20260421T073204
CREATED:20220527T174451Z
LAST-MODIFIED:20220708T180128Z
UID:32769-1660262400-1660607999@manosabiertas.org.ar
SUMMARY:Misión 2022
DESCRIPTION:Esta obra\, está conformada por integrantes de todas las delegaciones\, desde 2011 suscita espacios de solidaridad\, creando equipos de trabajo en la misma comunidad con mirada evangelizadora. Se ha llevado a cabo en distintos puntos del país\, Chaco Neuquén y también en Delta del Tigre\, Uruguay. \nEsta vez\, Formosa nos espera y será un grupo de voluntarios conformado por 26 personas! \nVer más
URL:https://manosabiertas.org.ar/evento/mision-2022/
CATEGORIES:Eventos
ATTACH;FMTTYPE=image/jpeg:https://manosabiertas.org.ar/wp-content/uploads/2022/05/WhatsApp-Image-2022-05-02-at-1.36.36-PM.jpeg
END:VEVENT
BEGIN:VEVENT
DTSTART;TZID=America/Argentina/Buenos_Aires:20220804T193000
DTEND;TZID=America/Argentina/Buenos_Aires:20220804T223000
DTSTAMP:20260421T073204
CREATED:20220526T200806Z
LAST-MODIFIED:20220805T195445Z
UID:33450-1659641400-1659652200@manosabiertas.org.ar
SUMMARY:Cena Compartida
DESCRIPTION:📍MAR DEL PLATA\n\n🙌🏼Gesto: Se compartirá una comida\, la cena juntos…  \n🗓Cuándo: 4 de agosto 2022\n📍Dónde: Hogar Nazareth de Cáritas Diocesana\n💛 Beneficiarios/patroncitos: personas que van a pasar allí la noche\n♥️ Voluntarios: se realizará con equipo Buscadores e invitados de otras Obras de Mar del Plata
URL:https://manosabiertas.org.ar/evento/cena-compartida/
LOCATION:Hogar Nazareth de Cáritas Diocesana\, Mar del Plata\, Argentina
CATEGORIES:Gestos
ATTACH;FMTTYPE=image/jpeg:https://manosabiertas.org.ar/wp-content/uploads/2022/05/WhatsApp-Image-2022-08-05-at-1.46.10-PM.jpeg
END:VEVENT
BEGIN:VEVENT
DTSTART;TZID=America/Argentina/Buenos_Aires:20220708T080000
DTEND;TZID=America/Argentina/Buenos_Aires:20220708T170000
DTSTAMP:20260421T073204
CREATED:20220708T155852Z
LAST-MODIFIED:20220801T193817Z
UID:34346-1657267200-1657299600@manosabiertas.org.ar
SUMMARY:Tejiendo Cariño
DESCRIPTION:📍CÓRDOBA\n\n🙌🏼Gesto: con la lana donada por la empresa Melody\, se confeccionan prendas de abrigo\n🗓Cuándo: 8 de julio entrega de prendas para ser compartidas.\n📍Dónde: En la casa de la obra Caminar de Nuevo en Bº Parque Vélez Sarsfield donde se tejieron gorros\, bufandas y cuellitos\n💛 Beneficiarios/patroncitos: alumnos de la escuela albergue Nuestra Señora del Valle en Los Gigantes\, Córdoba.\n♥️ Voluntarios: las prendas fueron tejidas por las patroncitas de la obra Caminar de Nuevo. 
URL:https://manosabiertas.org.ar/evento/tejiendo/
CATEGORIES:Gestos
ATTACH;FMTTYPE=image/jpeg:https://manosabiertas.org.ar/wp-content/uploads/2022/07/WhatsApp-Image-2022-06-16-at-10.13.57-AM-1.jpeg
END:VEVENT
BEGIN:VEVENT
DTSTART;TZID=America/Argentina/Buenos_Aires:20220708T000000
DTEND;TZID=America/Argentina/Buenos_Aires:20220708T000000
DTSTAMP:20260421T073204
CREATED:20220708T174243Z
LAST-MODIFIED:20220708T174809Z
UID:34367-1657238400-1657238400@manosabiertas.org.ar
SUMMARY:PuntoxPunto 2
DESCRIPTION:📍SAN JUAN\n\n🙌🏼Gesto: A través de un equipo de tejedoras que ya habían colaborado en otra oportunidad con Casa de la Bondad\, desde fines de marzo se comenzó a recibir lanas\, y cuadraditos ya tejidos. Desde otras voluntarias hicieron tejidos\, se realizó difusión en las obras y también por radio para obtener más colaboración.\n\n\n🗓Cuándo:  el 7 y 8 de julio\, la segunda travesía de entrega de frazadas \n📍Dónde: Guanacache .\n💛 Beneficiarios/patroncitos:  31 alumnos de 2 escuelas\, Escuela de la Patria con 21 alumnos y Escuela Fragata Presidente Sarmiento con 10 alumnos. Cada chico recibirá una frazada tejida y  un bolsón de mercadería para cada grupo familiar. \n♥️ Voluntarios:  grupo de 12 personas entre tejedoras y también voluntarios de nuestras obras que realizarán la visita. Más de 50 personas en total colaboraron en todo el proceso.
URL:https://manosabiertas.org.ar/evento/puntoxpunto-2/
CATEGORIES:Gestos
ATTACH;FMTTYPE=image/jpeg:https://manosabiertas.org.ar/wp-content/uploads/2022/07/WhatsApp-Image-2022-07-08-at-9.36.48-AM.jpeg
END:VEVENT
BEGIN:VEVENT
DTSTART;TZID=America/Argentina/Buenos_Aires:20220627T080000
DTEND;TZID=America/Argentina/Buenos_Aires:20220627T170000
DTSTAMP:20260421T073204
CREATED:20220804T154144Z
LAST-MODIFIED:20220804T162123Z
UID:34996-1656316800-1656349200@manosabiertas.org.ar
SUMMARY:Somos familia
DESCRIPTION:📍SALTA\n\n🙌🏼Gesto: Bajo el lema “AMAR Y SERVIR” se compartió una cena\, momento de reflexión\, oración; y se repartieron frazadas y abrigos para las familias que asistieron. Festejamos los 30 años de Manos Abiertas en Argentina\, junto a los voluntarios y a personas en situación de calle \n🗓Cuándo: 27 de junio\, 20hs\n📍Dónde: Salòn de la Parroquia León XIII\, Lerma 480\n💛 Beneficiarios/patroncitos: personas en situación de calle (varones\, mujeres y niños) entre 80 y 100 personas aproximadamente\n♥️ Voluntarios: 30 voluntarios en total de todas las obras en Salta\, equipo buscadores\, Mama Antula\, Casa de la Bondad y  Equipo de Educación. 
URL:https://manosabiertas.org.ar/evento/somos-familia/
CATEGORIES:Gestos
ATTACH;FMTTYPE=image/jpeg:https://manosabiertas.org.ar/wp-content/uploads/2022/08/WhatsApp-Image-2022-08-01-at-2.20.49-PM-1.jpeg
END:VEVENT
BEGIN:VEVENT
DTSTART;TZID=America/Argentina/Buenos_Aires:20220610T080000
DTEND;TZID=America/Argentina/Buenos_Aires:20220610T170000
DTSTAMP:20260421T073204
CREATED:20220610T161124Z
LAST-MODIFIED:20220804T164649Z
UID:35017-1654848000-1654880400@manosabiertas.org.ar
SUMMARY:Deleite de lectores
DESCRIPTION:📍ENTRE RÍOS\n\n🙌🏼Gesto: Ayudar a armar una Biblioteca en Hogar de Ancianos\, ciudad de Concordia. Con voluntarias de la Biblioteca\, Feria de Casa Loyola y Centro Cultural Casa Javier\, y con donaciones recibidas de libros\, se acondicionaron cajas con los mismos. Se pensó siempre en lecturas que les interesaran a adultos mayores.\n🗓Cuándo: 10 de junio \n📍Dónde: Hogar de Ancianos Isthilart\, de la ciudad de Concordia.\n💛 Beneficiarios/patroncitos: adultos mayores\, del hogar que alberga ancianos/as.\n♥️ Voluntarios: de la bibiblioteca\,  del equipo deFeria\, de Casa Loyola y del Centro Cultural Casa Javier que solicitaron las donaciones para tal fin.
URL:https://manosabiertas.org.ar/evento/deleite-de-lectores/
CATEGORIES:Gestos
ATTACH;FMTTYPE=image/jpeg:https://manosabiertas.org.ar/wp-content/uploads/2022/08/WhatsApp-Image-2022-07-01-at-8.47.04-PM.jpeg
END:VEVENT
BEGIN:VEVENT
DTSTART;TZID=America/Argentina/Buenos_Aires:20220522T100000
DTEND;TZID=America/Argentina/Buenos_Aires:20220522T150000
DTSTAMP:20260421T073204
CREATED:20220521T193118Z
LAST-MODIFIED:20220615T193146Z
UID:33186-1653213600-1653231600@manosabiertas.org.ar
SUMMARY:Choripaneada
DESCRIPTION:📍SANTA FE\n\n🙌🏼Gesto: los niños del barrio de Alto Verde realizarán TATETIS y CUADRITOS de la Virgen de los Milagros para ser obsequiados a los Patroncitos (niños oncológicos) del Cuenta Conmigo. Los adultos confeccionaron repasadores para la Casa de Cuidados Paliativos. También una hermosa celebración en la Capilla de los Milagros\, culminando con una choripaneada con las familias del barrio.\n🗓Cuándo: El domingo 22 de Mayo\, de 10 a 15 hs.\n📍Dónde: Alto Verde\n💛 Beneficiarios/patroncitos: Familias y niños del barrio de la comunidad de Alto Verde; niños internados en la sala de oncología pediátrica del Hospital Orlando Alassia y adultos oncológicos alojados en la Casa de Cuidados Paliativos.\n♥️ Voluntarios:  Se habilita un formulario para que puedan participar los voluntarios de todas las obras; ya sea en cocina\, decoración\, manualidades para niños y para adultos\, orden y limpieza al finalizar la jornada.
URL:https://manosabiertas.org.ar/evento/choripaneada/
CATEGORIES:Gestos
ATTACH;FMTTYPE=image/jpeg:https://manosabiertas.org.ar/wp-content/uploads/2022/05/IMG_6203.jpg
END:VEVENT
BEGIN:VEVENT
DTSTART;VALUE=DATE:20220513
DTEND;VALUE=DATE:20220514
DTSTAMP:20260421T073204
CREATED:20220512T152205Z
LAST-MODIFIED:20220602T003157Z
UID:32947-1652400000-1652486399@manosabiertas.org.ar
SUMMARY:PuntoxPunto
DESCRIPTION:📍SAN JUAN\n\n🙌🏼Gesto: A través de un equipo de tejedoras que ya habían colaborado en otra oportunidad con Casa de la Bondad\, desde fines de marzo se comenzó a recibir lanas\, y cuadraditos ya tejidos. Desde otras voluntarias hicieron tejidos\, se realizó difusión en las obras y también por radio para obtener más colaboración.\n\n\n🗓Cuándo:  13 de mayo\, será la primera entrega de frazadas \n📍Dónde: Chucuma\, localidad de Valle Fértil\, que está aprox a 50 km de la villa cabecera.\n💛 Beneficiarios/patroncitos:  31 alumnos de 2 escuelas\, Escuela de la Patria con 21 alumnos y Escuela Fragata Presidente Sarmiento con 10 alumnos. Cada chico recibirá una frazada tejida y  un bolsón de mercadería para cada grupo familiar. \n♥️ Voluntarios: será un grupo de 12 personas entre tejedoras y también voluntarios de nuestras obras que realizarán la visita. Más de 50 personas en total colaboraron en todo el proceso.
URL:https://manosabiertas.org.ar/evento/travesia-puntoxpunto/
LOCATION:SAN JUAN
CATEGORIES:Gestos
ATTACH;FMTTYPE=image/jpeg:https://manosabiertas.org.ar/wp-content/uploads/2022/05/WhatsApp-Image-2022-05-14-at-6.58.29-PM.jpeg
END:VEVENT
END:VCALENDAR